BEGIN:VCALENDAR
VERSION:2.0
PRODID:-//Becky Walsh | Performance &amp; Personal Development Training - ECPv6.15.20//NONSGML v1.0//EN
CALSCALE:GREGORIAN
METHOD:PUBLISH
X-WR-CALNAME:Becky Walsh | Performance &amp; Personal Development Training
X-ORIGINAL-URL:https://beckywalsh.com
X-WR-CALDESC:Events for Becky Walsh | Performance &amp; Personal Development Training
REFRESH-INTERVAL;VALUE=DURATION:PT1H
X-Robots-Tag:noindex
X-PUBLISHED-TTL:PT1H
BEGIN:VTIMEZONE
TZID:Europe/London
BEGIN:DAYLIGHT
TZOFFSETFROM:+0000
TZOFFSETTO:+0100
TZNAME:BST
DTSTART:20240331T010000
END:DAYLIGHT
BEGIN:STANDARD
TZOFFSETFROM:+0100
TZOFFSETTO:+0000
TZNAME:GMT
DTSTART:20241027T010000
END:STANDARD
BEGIN:DAYLIGHT
TZOFFSETFROM:+0000
TZOFFSETTO:+0100
TZNAME:BST
DTSTART:20250330T010000
END:DAYLIGHT
BEGIN:STANDARD
TZOFFSETFROM:+0100
TZOFFSETTO:+0000
TZNAME:GMT
DTSTART:20251026T010000
END:STANDARD
BEGIN:DAYLIGHT
TZOFFSETFROM:+0000
TZOFFSETTO:+0100
TZNAME:BST
DTSTART:20260329T010000
END:DAYLIGHT
BEGIN:STANDARD
TZOFFSETFROM:+0100
TZOFFSETTO:+0000
TZNAME:GMT
DTSTART:20261025T010000
END:STANDARD
END:VTIMEZONE
BEGIN:VEVENT
DTSTART;TZID=Europe/London:20250918T100000
DTEND;TZID=Europe/London:20250918T110000
DTSTAMP:20260421T131346
CREATED:20250123T141729Z
LAST-MODIFIED:20250123T141729Z
UID:1962-1758189600-1758193200@beckywalsh.com
SUMMARY:Civility and respect – Personal resilience and self-protection
DESCRIPTION:Having a good understanding of yourself means you’ll know what to do when someone tries to push your buttons. In this webinar\, we discuss emotional resilience and emotional intelligence and how this applies to specific council situations. \nEach of the webinars will give real situation scenarios and what to do in each of them\, including: \n\nMeetings\nCouncillors with Councillors\nDealing with members of the public who may be vexatious\nStaff having issues with other staff
URL:https://beckywalsh.com/event/civility-and-respect-personal-resilience-and-self-protection-7/
LOCATION:SLCC Members webinar
CATEGORIES:Events
ATTACH;FMTTYPE=image/jpeg:https://beckywalsh.com/wp-content/uploads/events-template-website.jpg
END:VEVENT
END:VCALENDAR